BEGIN:VCALENDAR
VERSION:2.0
PRODID:-//Brussels Bridge Club - ECPv5.16.4//NONSGML v1.0//EN
CALSCALE:GREGORIAN
METHOD:PUBLISH
X-WR-CALNAME:Brussels Bridge Club
X-ORIGINAL-URL:https://www.brusselsbridgeclub.be
X-WR-CALDESC:évènements pour Brussels Bridge Club
BEGIN:VTIMEZONE
TZID:Europe/Brussels
BEGIN:DAYLIGHT
TZOFFSETFROM:+0100
TZOFFSETTO:+0200
TZNAME:CEST
DTSTART:20260329T010000
END:DAYLIGHT
BEGIN:STANDARD
TZOFFSETFROM:+0200
TZOFFSETTO:+0100
TZNAME:CET
DTSTART:20261025T010000
END:STANDARD
END:VTIMEZONE
BEGIN:VEVENT
DTSTART;TZID=Europe/Brussels:20260518T200000
DTEND;TZID=Europe/Brussels:20260518T220000
DTSTAMP:20260419T151055
CREATED:20260415T092320Z
LAST-MODIFIED:20260415T092320Z
UID:11099-1779134400-1779141600@www.brusselsbridgeclub.be
SUMMARY:Parties surveillées
DESCRIPTION:Des parties à plusieurs tables organisés dans une ambiance conviviale  \n♠ avec introduction de quelques donnes pédagogiques (Attaque – Défense – Enchères) \n♠ animé par un professeur/moniteur/initiateur agrée par la LBF qui répondra à vos questions. \n♠ utilisation aide mémoire / syllabus admis. \n♠ pas de classement \n A partir de 19h00 vous pouvez jouer des parties libres et consulter les livres de notre bibliothèque. \nLa salle de bridge restera ouverte pour ceux qui veulent jouer les prolongations.  \nPendant les vacances scolaires il n’y aura pas de présence d’un enseignant mais la salle de bridge \n sera accessible à ceux que veulent jouer une partie libre. \n                         \nPas d’inscription préalable nécessaire !! Vous pouvez venir sans partenaire \nAffiche
URL:https://www.brusselsbridgeclub.be/event/parties-surveillees-8/
CATEGORIES:Joueurs non confirmés
ATTACH;FMTTYPE=image/png:https://www.brusselsbridgeclub.be/wp-content/uploads/2025/01/ecole-de-bridge.png
ORGANIZER;CN="Vincent%20Wangen":MAILTO:vincentwangen@hotmail.be
END:VEVENT
END:VCALENDAR