BEGIN:VCALENDAR
VERSION:2.0
PRODID:-//Brussels Bridge Club - ECPv5.16.4//NONSGML v1.0//EN
CALSCALE:GREGORIAN
METHOD:PUBLISH
X-WR-CALNAME:Brussels Bridge Club
X-ORIGINAL-URL:https://www.brusselsbridgeclub.be
X-WR-CALDESC:évènements pour Brussels Bridge Club
BEGIN:VTIMEZONE
TZID:Europe/Brussels
BEGIN:DAYLIGHT
TZOFFSETFROM:+0100
TZOFFSETTO:+0200
TZNAME:CEST
DTSTART:20250330T010000
END:DAYLIGHT
BEGIN:STANDARD
TZOFFSETFROM:+0200
TZOFFSETTO:+0100
TZNAME:CET
DTSTART:20251026T010000
END:STANDARD
END:VTIMEZONE
BEGIN:VEVENT
DTSTART;TZID=Europe/Brussels:20250724T193000
DTEND;TZID=Europe/Brussels:20250724T233000
DTSTAMP:20260423T102809
CREATED:20250709T140352Z
LAST-MODIFIED:20250709T140352Z
UID:10392-1753385400-1753399800@www.brusselsbridgeclub.be
SUMMARY:Tournoi du jeudi soir
DESCRIPTION:
URL:https://www.brusselsbridgeclub.be/event/tournoi-du-jeudi-soir/
CATEGORIES:Soirée
ORGANIZER;CN="Brigitte%20%26%20Alex":MAILTO:brigitteseny@yahoo.fr
END:VEVENT
END:VCALENDAR