BEGIN:VCALENDAR
VERSION:2.0
PRODID:-//Brussels Bridge Club - ECPv5.16.4//NONSGML v1.0//EN
CALSCALE:GREGORIAN
METHOD:PUBLISH
X-WR-CALNAME:Brussels Bridge Club
X-ORIGINAL-URL:https://www.brusselsbridgeclub.be
X-WR-CALDESC:évènements pour Brussels Bridge Club
BEGIN:VTIMEZONE
TZID:Europe/Brussels
BEGIN:DAYLIGHT
TZOFFSETFROM:+0100
TZOFFSETTO:+0200
TZNAME:CEST
DTSTART:20240331T010000
END:DAYLIGHT
BEGIN:STANDARD
TZOFFSETFROM:+0200
TZOFFSETTO:+0100
TZNAME:CET
DTSTART:20241027T010000
END:STANDARD
BEGIN:DAYLIGHT
TZOFFSETFROM:+0100
TZOFFSETTO:+0200
TZNAME:CEST
DTSTART:20250330T010000
END:DAYLIGHT
BEGIN:STANDARD
TZOFFSETFROM:+0200
TZOFFSETTO:+0100
TZNAME:CET
DTSTART:20251026T010000
END:STANDARD
END:VTIMEZONE
BEGIN:VEVENT
DTSTART;TZID=Europe/Brussels:20240426T143000
DTEND;TZID=Europe/Brussels:20240426T183000
DTSTAMP:20260424T175229
CREATED:20240310T101643Z
LAST-MODIFIED:20240310T101643Z
UID:8951-1714141800-1714156200@www.brusselsbridgeclub.be
SUMMARY:Le simultané du BBBW
DESCRIPTION:Un tournoi par paires organisé dans plusieurs clubs chaque dernier vendredi après midi du mois. \nLes participants joueront +- 27 donnes préduplicatées dans une ambiance conviviale. \nIls recevront un diagramme des donnes à la fin de chaque tournoi. \nIls pourront consulter leur résultats et leur feuille de route chaque vendredi à partir de 20 heures. \nTournoi Catégorie C. \nAttribution des Masterpoints. \n  \n 
URL:https://www.brusselsbridgeclub.be/event/le-simultane-du-bbbw-7/
LOCATION:Brussels Bridge Club\, Drève des Brûlés 59\, Bruxelles\, 1150\, Belgique
CATEGORIES:Championnat BBBW,Tournois
ATTACH;FMTTYPE=image/jpeg:https://www.brusselsbridgeclub.be/wp-content/uploads/2020/06/bbbw-logo.jpg
ORGANIZER;CN="Alain%20Labaere":MAILTO:labaere.alain@gmail.com
END:VEVENT
BEGIN:VEVENT
DTSTART;TZID=Europe/Brussels:20240531T143000
DTEND;TZID=Europe/Brussels:20240531T183000
DTSTAMP:20260424T175229
CREATED:20240421T163953Z
LAST-MODIFIED:20240507T081052Z
UID:9069-1717165800-1717180200@www.brusselsbridgeclub.be
SUMMARY:Le simultané du BBBW
DESCRIPTION:Un tournoi par paires organisé dans plusieurs clubs chaque dernier vendredi après midi du mois. \nLes participants joueront +- 27 donnes préduplicatées dans une ambiance conviviale. \nIls recevront un diagramme des donnes à la fin de chaque tournoi. \nIls pourront consulter leur résultats et leur feuille de route chaque vendredi à partir de 20 heures. \nTournoi Catégorie C. \nAttribution des Masterpoints. \nAprès le tournoi le BBC organise un BBQ (réservation obligatoire – 21€ pp) \n 
URL:https://www.brusselsbridgeclub.be/event/le-simultane-du-bbbw-8/
LOCATION:Brussels Bridge Club\, Drève des Brûlés 59\, Bruxelles\, 1150\, Belgique
CATEGORIES:Championnat BBBW,Tournois
ATTACH;FMTTYPE=image/jpeg:https://www.brusselsbridgeclub.be/wp-content/uploads/2020/06/bbbw-logo.jpg
ORGANIZER;CN="Alain%20Labaere":MAILTO:labaere.alain@gmail.com
END:VEVENT
BEGIN:VEVENT
DTSTART;TZID=Europe/Brussels:20250418T140000
DTEND;TZID=Europe/Brussels:20250418T183000
DTSTAMP:20260424T175229
CREATED:20250318T164921Z
LAST-MODIFIED:20250318T164921Z
UID:10057-1744984800-1745001000@www.brusselsbridgeclub.be
SUMMARY:Paires Dames BBBW
DESCRIPTION:Compétition réservée aux membres de la LBF \nInscriptions : Lydia Wildiers\n0479.214.865\, E-mail : wilmaly@skynet.be\nou sur le site de la LBF. \nTournoi Catégorie C. \nAttribution des Masterpoints. \nAffiche
URL:https://www.brusselsbridgeclub.be/event/paires-dames-bbbw-3/
LOCATION:Brussels Bridge Club\, Drève des Brûlés 59\, Bruxelles\, 1150\, Belgique
CATEGORIES:Championnat BBBW
ATTACH;FMTTYPE=image/png:https://www.brusselsbridgeclub.be/wp-content/uploads/2023/02/Dames1.png
ORGANIZER;CN="Alain%20Labaere":MAILTO:labaere.alain@gmail.com
END:VEVENT
END:VCALENDAR